BEGIN:VCALENDAR
VERSION:2.0
CALSCALE:GREGORIAN
METHOD:PUBLISH
PRODID://SDDC//516197
BEGIN:VEVENT
DTSTAMP:20260421T054444
VTIMEZONE:America/Chicago
DTSTART:20260817T153000Z
DTEND:20260817T160000Z
UID:516197
SUMMARY:Moon Movie Monday - CAPCOM Go! The Apollo Story
LOCATION:South Dakota Discovery Center, 805 W Sioux Ave, Pierre, SD, 57501
DESCRIPTION:Moon Movie Monday - CAPCOM Go! The Apollo Story\n\n08/17/26 10:30 AM CST\n - 08/17/26 11:00 AM CST\Description:\nJoin movie screenings in our portable planetarium. Stop in for one, or catch a triple feature screening of space exploration! From the cosmic history of Orion and Artemis as stellar objects, to unmanned rovers on the Martian surface, delve deep into different aspects of NASA's Artemis project. \n\nRuntime: 30 minutes\nTarget Audience: 9+\nDescription: More than 50 years ago, the first human walked on the moon… discover the story behind this historic moment which will inspire the next generation of explorers and dreamers. On July 20th 1969, 600 million people around the world gathered to witness a historic moment of human achievement broadcast live from the Moon. “That’s one small step for man, one giant leap for mankind” said Neil Armstrong. The world celebrated as the astronauts took their first steps on the Moon. But few people were aware of just how huge an effort it had taken to get them there. These Apollo 11 astronauts were just 3 of nearly 400,000 people who had worked over ten years towards this goal. But how did they do it? What did it take to put humans on the Moon?\n\n\nJourney Beyond the Known 360-degree planetarium movie may vary depending on the audience present.\nPlease be aware that our shows may incorporate one or several of the following features: bright lights, flashing visuals, loud sounds, or intense motion effects.\Location:\nSouth Dakota Discovery Center\n805 W Sioux Ave\nPierre, SD 57501
X-ALT-DESC;FMTTYPE=text/html:Moon Movie Monday - CAPCOM Go! The Apollo Story<br /><br />08/17/26 10:30 AM CST - 08/17/26 11:00 AM CST<br />Description:<br />Join movie screenings in our portable planetarium. Stop in for one, or catch a triple feature screening of space exploration! From the cosmic history of Orion and Artemis as stellar objects, to unmanned rovers on the Martian surface, delve deep into different aspects of NASA's Artemis project.&nbsp;<br />
<br />
<strong>Runtime:</strong> 30 minutes<br />
<strong>Target Audience:</strong> 9+<br />
<strong>Description:</strong> More than 50 years ago, the first human walked on the moon&hellip; discover the story behind this historic moment which will inspire the next generation of explorers and dreamers. On July 20th 1969, 600 million people around the world gathered to witness a historic moment of human achievement broadcast live from the Moon. &ldquo;That&rsquo;s one small step for man, one giant leap for mankind&rdquo; said Neil Armstrong. The world celebrated as the astronauts took their first steps on the Moon. But few people were aware of just how huge an effort it had taken to get them there. These Apollo 11 astronauts were just 3 of nearly 400,000 people who had worked over ten years towards this goal. But how did they do it? What did it take to put humans on the Moon?<br />
<br />
<br />
Journey Beyond the Known 360-degree planetarium movie may vary depending on the audience present.<br />
<em>Please be aware that our shows may incorporate one or several of the following features: bright lights, flashing visuals, loud sounds, or intense motion effects.</em><br />Location:<br />South Dakota Discovery Center<br />805 W Sioux Ave<br />Pierre, SD 57501
PRIORITY:3
TRANSP:TRANSPARENT
BEGIN:VALARM
TRIGGER:-PT5M
ACTION:DISPLAY
DESCRIPTION:Reminder
END:VALARM
END:VEVENT
END:VCALENDAR
