BEGIN:VCALENDAR
VERSION:2.0
CALSCALE:GREGORIAN
METHOD:PUBLISH
PRODID://SDDC//516185
BEGIN:VEVENT
DTSTAMP:20260423T001119
VTIMEZONE:America/Chicago
DTSTART:20260706T153000Z
DTEND:20260706T160000Z
UID:516185
SUMMARY:Moon Movie Monday - Finding Patterns: The Forge of Artemis & OneSky Epilogue
LOCATION:South Dakota Discovery Center, 805 W Sioux Ave, Pierre, SD, 57501
DESCRIPTION:Moon Movie Monday - Finding Patterns: The Forge of Artemis & OneSky Epilogue\n\n07/06/26 10:30 AM CST\n - 07/06/26 11:00 AM CST\Description:\nJoin movie screenings in our portable planetarium. Stop in for one, or catch a triple feature screening of space exploration! From the cosmic history of Orion and Artemis as stellar objects, to unmanned rovers on the Martian surface, delve deep into different aspects of NASA's Artemis project. \n\nRuntime: 9 minutes 14 seconds\nTarget Audience: 4+\nDescription: Finding Patterns: In ancient Greece, Orion was a mighty but not particularly popular hunter, but his constellation shines brightly—a familiar shape to people around the world. Why did the goddess Artemis immortalize him in the sky?  Also screening is the epilogue fulldome film of the One Sky Project. Each short film represents the perspective of a different culture or Indigenous society from around the globe. Each film stands alone as a short story or in combination as a longer narrative — organized around themes of "Finding Patterns" and developing tools, or as we say, "To Seek Far."\n\nJourney Beyond the Known 360-degree planetarium movie may vary depending on the audience present.\nPlease be aware that our shows may incorporate one or several of the following features: bright lights, flashing visuals, loud sounds, or intense motion effects.\Location:\nSouth Dakota Discovery Center\n805 W Sioux Ave\nPierre, SD 57501
X-ALT-DESC;FMTTYPE=text/html:Moon Movie Monday - Finding Patterns: The Forge of Artemis & OneSky Epilogue<br /><br />07/06/26 10:30 AM CST - 07/06/26 11:00 AM CST<br />Description:<br />Join movie screenings in our portable planetarium. Stop in for one, or catch a triple feature screening of space exploration! From the cosmic history of Orion and Artemis as stellar objects, to unmanned rovers on the Martian surface, delve deep into different aspects of NASA's Artemis project.&nbsp;<br />
<br />
<strong>Runtime:</strong>&nbsp;9 minutes 14 seconds<br />
<strong>Target Audience:</strong>&nbsp;4+<br />
<strong>Description:</strong>&nbsp;Finding Patterns: In ancient Greece, Orion was a mighty but not particularly popular hunter, but his constellation shines brightly&mdash;a familiar shape to people around the world. Why did the goddess Artemis immortalize him in the sky?&nbsp;&nbsp;Also screening is the epilogue fulldome film of the One Sky Project. Each short film represents the perspective of a different culture or Indigenous society from around the globe. Each film stands alone as a short story or in combination as a longer narrative &mdash; organized around themes of &quot;Finding Patterns&quot; and developing tools, or as we say, &quot;To Seek Far.&quot;<br />
<br />
Journey Beyond the Known 360-degree planetarium movie may vary depending on the audience present.<br />
<em>Please be aware that our shows may incorporate one or several of the following features: bright lights, flashing visuals, loud sounds, or intense motion effects.</em><br />Location:<br />South Dakota Discovery Center<br />805 W Sioux Ave<br />Pierre, SD 57501
PRIORITY:3
TRANSP:TRANSPARENT
BEGIN:VALARM
TRIGGER:-PT5M
ACTION:DISPLAY
DESCRIPTION:Reminder
END:VALARM
END:VEVENT
END:VCALENDAR
