BEGIN:VCALENDAR
VERSION:2.0
CALSCALE:GREGORIAN
METHOD:PUBLISH
PRODID://SDDC//516182
BEGIN:VEVENT
DTSTAMP:20260421T054508
VTIMEZONE:America/Chicago
DTSTART:20260803T203000Z
DTEND:20260803T210000Z
UID:516182
SUMMARY:Moon Movie Monday - Journey to Mars: Pioneering Next Steps in Space Exploration
LOCATION:South Dakota Discovery Center, 805 W Sioux Ave, Pierre, SD, 57501
DESCRIPTION:Moon Movie Monday - Journey to Mars: Pioneering Next Steps in Space Exploration\n\n08/03/26 03:30 PM CST\n - 08/03/26 04:00 PM CST\Description:\nJoin movie screenings in our portable planetarium. Stop in for one, or catch a triple feature screening of space exploration! From the cosmic history of Orion and Artemis as stellar objects, to unmanned rovers on the Martian surface, delve deep into different aspects of NASA's Artemis project.  \n\nRuntime: 10 minutes, 25 seconds\nTarget Audience: 6+\nDescription: NASA's fleet of Mars robotic explorers are paving the way for human exploration of the Solar System in the coming decades. Generate excitement for space agencies like NASA, ESA and the UK Space Agency - as humanity prepares for a monumental journey to Mars!\n\nJourney Beyond the Known 360-degree planetarium movie may vary depending on the audience present.\nPlease be aware that our shows may incorporate one or several of the following features: bright lights, flashing visuals, loud sounds, or intense motion effects.\Location:\nSouth Dakota Discovery Center\n805 W Sioux Ave\nPierre, SD 57501
X-ALT-DESC;FMTTYPE=text/html:Moon Movie Monday - Journey to Mars: Pioneering Next Steps in Space Exploration<br /><br />08/03/26 03:30 PM CST - 08/03/26 04:00 PM CST<br />Description:<br />Join movie screenings in our portable planetarium. Stop in for one, or catch a triple feature screening of space exploration! From the cosmic history of Orion and Artemis as stellar objects, to unmanned rovers on the Martian surface, delve deep into different aspects of NASA's Artemis project.&nbsp;&nbsp;<br />
<br />
<strong>Runtime:</strong> 10 minutes, 25 seconds<br />
<strong>Target Audience:</strong> 6+<br />
<strong>Description:</strong>&nbsp;NASA's fleet of Mars robotic explorers are paving the way for human exploration of the Solar System in the coming decades. Generate excitement for space agencies like NASA, ESA and the UK Space Agency - as humanity prepares for a monumental journey to Mars!<br />
<br />
Journey Beyond the Known 360-degree planetarium movie may vary depending on the audience present.<br />
<em>Please be aware that our shows may incorporate one or several of the following features: bright lights, flashing visuals, loud sounds, or intense motion effects.</em><br />Location:<br />South Dakota Discovery Center<br />805 W Sioux Ave<br />Pierre, SD 57501
PRIORITY:3
TRANSP:TRANSPARENT
BEGIN:VALARM
TRIGGER:-PT5M
ACTION:DISPLAY
DESCRIPTION:Reminder
END:VALARM
END:VEVENT
END:VCALENDAR
