BEGIN:VCALENDAR
VERSION:2.0
CALSCALE:GREGORIAN
METHOD:PUBLISH
PRODID://SDDC//515726
BEGIN:VEVENT
DTSTAMP:20260423T032148
VTIMEZONE:America/Chicago
DTSTART:20260704T150000Z
DTEND:20260704T160000Z
UID:515726
SUMMARY:Summer Little Explorers -
LOCATION:South Dakota Discovery Center, 805 W Sioux Ave, Pierre, SD, 57501-1858
DESCRIPTION:Summer Little Explorers -\n\n07/04/26 10:00 AM CST\n - 07/04/26 11:00 AM CST\Description:\nSummer Little Explorers is a combination of our beloved Little Explorers Nature Preschool and the Itty Bitty Einsteins class model. Classes are geared toward explorers between the ages of 3-5 and their families. Explore the science of nature and the nature of science through hands-on experiences and STEM journals together.\n\nFees must be paid at the front desk on the day of class.\nSDDC Member: FREE\nNonmember: $4 per family group + general admission fees\Location:\nSouth Dakota Discovery Center\n805 W Sioux Ave\nPierre, SD 57501-1858
X-ALT-DESC;FMTTYPE=text/html:Summer Little Explorers -<br /><br />07/04/26 10:00 AM CST - 07/04/26 11:00 AM CST<br />Description:<br />Summer Little Explorers is a combination of our beloved Little Explorers&nbsp;Nature Preschool and the&nbsp;Itty Bitty Einsteins class model. Classes are geared toward explorers between the ages of 3-5 and their families.&nbsp;Explore the science of nature and the nature of science through hands-on experiences and STEM journals together.<br />
<br />
Fees must be paid at the front desk on the day of class.<br />
SDDC Member: FREE<br />
Nonmember: $4&nbsp;per family group + general admission fees<br />Location:<br />South Dakota Discovery Center<br />805 W Sioux Ave<br />Pierre, SD 57501-1858
PRIORITY:3
TRANSP:TRANSPARENT
BEGIN:VALARM
TRIGGER:-PT5M
ACTION:DISPLAY
DESCRIPTION:Reminder
END:VALARM
END:VEVENT
END:VCALENDAR
